Workbook
Name _Toc22639849: Index!$G$31
Name _Toc22639861: Index!$G$24
Name _Toc22639862: Index!$G$25
Name A96\: '6-A. Proc. Sub-Annex'!$3:$4
Name data: #REF!
Name data: #REF!
Name data: #REF!
Name data: #REF!
Name data: #REF!
Name data: #REF!
Name data: #REF!

Sheet Index
A1: Summary Sheets | C1: Annexures | E1: NUHM | G1: Abstracts
A2: Source of Funding | B2: =HYPERLINK("#'Sources of Funding'!A1:J1", "Table A") -> Table A | C2: FMR 1: Service Delivery: Facility Based | D2: =HYPERLINK("#'1.SD Facility Based Annex'!A3:A4", "Anx 1") -> Anx 1 | E2: NUHM: Non Metro | F2: =HYPERLINK("#'NUHM-Non Metro Abst'!A3:A4", "Annex/ Abs_NM") -> Annex/ Abs_NM | G2: RMNCH+A including RI, IPPI, NIDDCP
A3: District Allocation and Sub Plan | B3: =HYPERLINK("#'Dist Allocation and Sub Plan'!A4:A5", "Table B") -> Table B | C3: FMR 2: Service Delivery: Community Based | D3: =HYPERLINK("#'2.SD Community Based Annex'!A3:A4", "Anx 2") -> Anx 2 | E3: NUHM: Metro | F3: =HYPERLINK("#'NUHM Metro Abst'!A3:A4", "Annex/ Abs_M") -> Annex/ Abs_M | G3: RMNCH+A | H3: =HYPERLINK("#'Ab1. RMNCH+A'!A1:C1", "Abst 1") -> Abst 1
A4: Budget Summary Table | B4: =HYPERLINK("#'Summary Table'!A4:A5", "Table C") -> Table C | C4: FMR 3: Community Intervention | D4: =HYPERLINK("#'3.Community Intervention Annexn'!A5:A6", "Anx 3") -> Anx 3 | G4: Maternal Health | H4: =HYPERLINK("#'Ab1. RMNCH+A'!A6", "RMNCH+A Sub Abst 1") -> RMNCH+A Sub Abst 1
A5: Budget Summary I | B5: =HYPERLINK("#'Budget Summary I'!A2", "Table D") -> Table D | C5: Community Interventions Sub Annexure | D5: =HYPERLINK("#'3-A. CI Sub-Annex'!A3:A4", "CI-Sub Anx") -> CI-Sub Anx | G5: Child Health | H5: =HYPERLINK("#'Ab1. RMNCH+A'!A101", "RMNCH+A Sub Abst 2") -> RMNCH+A Sub Abst 2
A6: Budget Summary II | B6: =HYPERLINK("#'Budget Summary II'!A1", "Table E") -> Table E | C6: FMR 4: Untied grants | D6: =HYPERLINK("#'4.Untied grants Annex'!A3:A4", "Anx 4") -> Anx 4 | G6: Family Planning | H6: =HYPERLINK("#'Ab1. RMNCH+A'!A196", "RMNCH+A Sub Abst 3") -> RMNCH+A Sub Abst 3
A7: NUHM Summary Sheet | B7: =HYPERLINK("#'NUHM Summary'!A3:A4", "Table G") -> Table G | C7: FMR 5: Infrastructure | D7: =HYPERLINK("#'5.Infrastructure Annex'!A3:A4", "Anx 5") -> Anx 5 | G7: RKSK/ Adolescent health | H7: =HYPERLINK("#'Ab1. RMNCH+A'!A288", "RMNCH+A Sub Abst 4") -> RMNCH+A Sub Abst 4
C8: FMR 6: Procurement | D8: =HYPERLINK("#'6.Procurement Annex'!A3:A4", "Anx 6") -> Anx 6 | G8: RBSK | H8: =HYPERLINK("#'Ab1. RMNCH+A'!A341", "RMNCH+A Sub Abst 5") -> RMNCH+A Sub Abst 5
C9: Procurement Sub Annexure | D9: =HYPERLINK("#'6-A. Proc. Sub-Annex'!A3:A4", "Proc Sub Anx") -> Proc Sub Anx | G9: PC-PNDT | H9: =HYPERLINK("#'Ab1. RMNCH+A'!A377", "RMNCH+A Sub Abst 6") -> RMNCH+A Sub Abst 6
C10: FMR 7: Referral Transport | D10: =HYPERLINK("#'7.Referral Transport Annex'!A3:A4", "Anx 7") -> Anx 7 | G10: Immunization | H10: =HYPERLINK("#'Ab1. RMNCH+A'!A394", "RMNCH+A Sub Abst 7") -> RMNCH+A Sub Abst 7
C11: FMR 8: Human Resource (Service Delivery) | D11: =HYPERLINK("#'8.Human Resources (SD) Annex'!A3:A4", "Anx 8") -> Anx 8 | G11: Other RCH Component | H11: =HYPERLINK("#'Ab1. RMNCH+A'!A432", "RMNCH+A Sub Abst 8") -> RMNCH+A Sub Abst 8
C12: FMR 9: Training | D12: =HYPERLINK("#'9.Training Annex'!A3:A4", "Anx 9") -> Anx 9 | G12: National Iodine Deficiency Disorders Control Programme (NIDDCP) | H12: =HYPERLINK("#'Ab2. NIDDCP'!A1:C1", "Abst 2") -> Abst 2
C13: Training Sub Annexure | D13: =HYPERLINK("#'9-A.Training Sub-Annex'!A3:A4", "Training Sub Anx") -> Training Sub Anx | G13: Health System Strengthening (HSS)
C14: FMR 10: Review, Research and Surveillance | D14: =HYPERLINK("#'10.Review Research & Surveillen'!A3:A4", "Anx 10") -> Anx 10 | G14: ASHA | H14: =HYPERLINK("#'Ab3. ASHA'!A1:C1", "Abst 3") -> Abst 3
C15: FMR 11: IEC-BCC | D15: =HYPERLINK("#'11.IEC-BCC Annex'!A3:A4", "Anx 11") -> Anx 11 | G15: HMIS-RCH (MMPC Projects) | H15: =HYPERLINK("#'Ab4. HMIS-MCTS'!A1:C1", "Abst 4") -> Abst 4
C16: IEC/ BCC Sub Annexure | D16: =HYPERLINK("#'11-A. IEC Sub-Annex'!A3:A4", "IEC-BCC Sub Anx") -> IEC-BCC Sub Anx | G16: Blood Services & Disorders | H16: =HYPERLINK("#'Abs5. Blood services & Disorder'!A1:C1", "Abst 5") -> Abst 5
C17: FMR 12: Printing | D17: =HYPERLINK("#'12.Printing Annex'!A3:A4", "Anx 12") -> Anx 12 | G17: Ayushman Bharat Health & Wellness Centre | H17: =HYPERLINK("#'Abs6. CPHC'!A1:C1", "Abst 6") -> Abst 6
C18: Printing Sub Annexure | D18: =HYPERLINK("#'12-A. Print Sub-Annex'!A3:A4", "Printing Sub Anx") -> Printing Sub Anx | G18: AYUSH | H18: =HYPERLINK("#'Abs7. AYUSH'!A1:C1", "Abst 7") -> Abst 7
C19: FMR 13: Quality | D19: =HYPERLINK("#'13.Quality Assurance Annex'!A3:A4", "Anx 13") -> Anx 13 | G19: National Disease Control Programme
C20: FMR 14: Drug Warehouse & Logistic | D20: =HYPERLINK("#'14.Drug warehouse &Logistic Anx'!A3:A4", "Anx 14") -> Anx 14 | G20: Integrated Disease Surveillance Programme (IDSP) | H20: =HYPERLINK("#'Abs8. IDSP'!A1:C1", "Abst 8") -> Abst 8
C21: FMR 15: PPP | D21: =HYPERLINK("#'15.PPP Annex'!A3:A4", "Anx 15") -> Anx 15 | G21: National Vector Borne Disease Control Programme (NVBDCP) | H21: =HYPERLINK("#'Abs9. NVBDCP'!A1:C1", "Abst 9") -> Abst 9
C22: FMR 16: Programme Management | D22: =HYPERLINK("#'16.PM Annex'!A3:A4", "Anx 16") -> Anx 16 | G22: National Leprosy Eradication Programme (NLEP) | H22: =HYPERLINK("#'Abs10. NLEP'!A1:C1", "Abst 10") -> Abst 10
C23: PM-Activities Sub Annexure | D23: =HYPERLINK("#'16-A. PM sub Annex'!A3:A4", "PM Activity Sub Anx") -> PM Activity Sub Anx | G23: National Tuberculosis Elimination Programme (NTEP) | H23: =HYPERLINK("#'Abs11. NTEP'!A1:C1", "Abst 11") -> Abst 11
C24: FMR 17: IT Initiatives for Service Delivery | D24: =HYPERLINK("#'17.IT Initiatives_SD'!A3:A4", "Anx 17") -> Anx 17 | G24: National Viral Hepatitis Control Programme (NVHCP) | H24: =HYPERLINK("#'Abs12. NVHCP'!A1:C1", "Abst 12") -> Abst 12
C25: FMR 18: Innovations | D25: =HYPERLINK("#'18.Innovation'!A3:A4", "Anx 18") -> Anx 18 | G25: National Rabies Control Programme (NRCP) | H25: =HYPERLINK("#'Abs13. NRCP'!A1:C1", "Abst 13") -> Abst 13
G26: Programme for Prevention and Control of Leptospirosis (PPCL) | H26: =HYPERLINK("#'Abs14. PPCL'!A1:C1", "Abst 14") -> Abst 14
G27: Non Communicable Disease Control Programme and Zoonotic Diseases
G28: National Program for Control of Blindness and Vision Impairment (NPCB+VI) | H28: =HYPERLINK("#'Abs15. NPCB'!A1:C1", "Abst 15") -> Abst 15
G29: National Mental Health Program (NMHP) | H29: =HYPERLINK("#'Abs16. NMHP'!A1:C1", "Abst 16") -> Abst 16
G30: National Programme for Health Care for the Elderly (NPHCE) | H30: =HYPERLINK("#'Abs17. NPHCE'!A1:C1", "Abst 17") -> Abst 17
G31: National Tobacco Control Programme (NTCP) | H31: =HYPERLINK("#'Abs18. NTCP'!A1:C1", "Abst 18") -> Abst 18
G32: National Programme for Prevention and Control of Diabetes, Cardiovascular Disease and Stroke (NPCDCS) | H32: =HYPERLINK("#'Abs19. NPCDCS'!A1:C1","Abst 19") -> Abst 19
G33: Pradhan Mantri National Dialysis Programme | H33: =HYPERLINK("#'Abs20. PMNDP'!A1:C1", "Abst 20") -> Abst 20
G34: National Program for Climate Change and Human Health (NPCCHH) | H34: =HYPERLINK("#'Abs21. NPCCHH'!A4:A5", "Abst 21") -> Abst 21
G35: National Programme for Prevention and Control of Deafness (NPPCD) | H35: =HYPERLINK("#'Abs22. NPPCD'!A1:C1", "Abst 22") -> Abst 22
G36: National Programme for Prevention and Control of Fluorosis (NPPCF) | H36: =HYPERLINK("#'Abs23. NPPCF'!A1:C1", "Abst 23") -> Abst 23
G37: National Oral health programme (NOHP) | H37: =HYPERLINK("#'Abs24. NOHP'!A1:C1", "Abst 24") -> Abst 24
G38: National Programme on palliative care (NPPC) | H38: =HYPERLINK("#'Abs25. NPPC'!A1:C1", "Abst 25") -> Abst 25
G39: National programme for Prevention and Management of Burn & Injuries | H39: =HYPERLINK("#'Abs26. Burns & Injury'!A1:C1", "Abst 26") -> Abst 26

Sheet Sources of Funding
A1: =HYPERLINK("#Index!B1", "Index Pg") -> Index Pg | B1: =HYPERLINK("#'Budget Summary I'!A2", "Budget Summary I") -> Budget Summary I | C1: =HYPERLINK("#'Budget Summary II'!A2:B2", "Budget Summary II") -> Budget Summary II
A2: Summary of Budget of Annual State Health Plan
A3: Sl. No | B3: Heads | C3: Total Budget (in Cr) | D3: Area specific Budget (in Cr)
D4: Service Delivery | L4: Financing | N4: Medicines and Equipment | P4: Health workforce | R4: Leadership/ Governance | S4: Health Information Systems | U4: Innovation
D5: Service Delivery - Facility Based | E5: Service Delivery - Community Based | F5: Community Interventions | G5: Infrastructure | H5: Referral Transport | I5: IEC/BCC | J5: Printing | K5: Quality Assurance | L5: Untied Fund | M5: PPP | N5: Procurement | O5: Drug Warehousing and Logistics | P5: Human Resources | Q5: Training | R5: Programme Management | S5: Reviews, Research, Surveys and Surveillance | T5: IT Initiatives | U5: Innovations (if any)
A6: Budget Released in FY 2020-21
A7: 1 | B7: NHM (Central Share)
A8: 2 | B8: NHM (State Share)
A9: 3 | B9: State Government (health budget other than NHM, including Medical Education)
A10: 4 | B10: Central Government (including Medical Education/ PMSSY/ Tertiary care programme/ Pharmacology etc.)
A11: 5 | B11: COVID Package (ECRP)
A12: 6 | B12: NACO
A13: 7 | B13: Ministry of AYUSH
A14: 8 | B14: Ministry of Tribal Affairs
A15: 9 | B15: Ministry of Minority Affairs
A16: 10 | B16: Ministry of Social Justice and Empowerment
A17: 11 | B17: Member of Parliament Local Area Development Scheme (MPLADS)
A18: 12 | B18: Ministry of Development of North Eastern Region
... A25: 19 | B25: Any Other residual head (Please specify…)
A26: 20
A27: 21
A28: 22
A29: 23
A30: 24
A31: 25
A32: 26
A33: 27
A34: 28
A35: 29
A36: 30
A37: 31
... A56: 50

Sheet Dist Allocation and Sub Plan
A1: Name of State/ UT | C1: TAMIL NADU
A2: Total RE Allocated for the State/ UT (in Cr) | C2: 2435
A4: Sl No | B4: Name of Districts | C4: No. of Blocks | D4: Aspirational District (Y/N) | E4: No. of Tribal Blocks | F4: No. of SC Blocks | G4: No. of Minority Blocks | H4: Total district RE indicated for FY 21-22 (in Cr) | I4: % of State Allocation
A5: 1 | B5: Ariyalur | C5: 6 | D5: N | H5: 23.88 | I5: =H5/$C$2 -> 0.0098069815
A6: 2 | B6: Chennai | C6: 0 | D6: N | H6: 203.09 | I6: =H6/$C$2 -> 0.083404517
A7: 3 | B7: Chengalpattu | C7: 8 | D7: N | H7: 87.9 | I7: =H7/$C$2 -> 0.036098563
A8: 4 | B8: Coimbatore | C8: 12 | D8: N | H8: 120.65 | I8: =H8/$C$2 -> 0.049548255
A9: 5 | B9: Cuddalore | C9: 13 | D9: N | H9: 86.58 | I9: =H9/$C$2 -> 0.035556468
A10: 6 | B10: Dharmapuri | C10: 8 | D10: N | E10: 2 | H10: 50.96 | I10: =H10/$C$2 -> 0.020928131
A11: 7 | B11: Dindigul | C11: 14 | D11: N | H11: =40.96+30.14 -> 71.1 | I11: =H11/$C$2 -> 0.029199179
A12: 8 | B12: Erode | C12: 14 | D12: N | H12: 74.12 | I12: =H12/$C$2 -> 0.030439425
A13: 9 | B13: Kallakurichi | C13: 9 | D13: N | E13: 1 | H13: 57.93 | I13: =H13/$C$2 -> 0.023790554
A14: 10 | B14: Kancheepuram | C14: 5 | D14: N | H14: 56.96 | I14: =H14/$C$2 -> 0.023392197
A15: 11 | B15: Kanniyakumari | C15: 9 | D15: N | G15: 9 | H15: 60.66 | I15: =H15/$C$2 -> 0.024911704
A16: 12 | B16: Karur | C16: 8 | D16: N | H16: 36.21 | I16: =H16/$C$2 -> 0.014870637
A17: 13 | B17: Krishnagiri | C17: 10 | D17: N | H17: 66.28 | I17: =H17/$C$2 -> 0.027219713
A18: 14 | B18: Madurai | C18: 13 | D18: N | H18: 104.72 | I18: =H18/$C$2 -> 0.04300616
A19: 15 | B19: Nagapattinam | C19: 11 | D19: N | H19: 51.32 | I19: =H19/$C$2 -> 0.021075975
A20: 16 | B20: Namakkal | C20: 15 | D20: N | E20: 1 | H20: 57.98 | I20: =H20/$C$2 -> 0.023811088
A21: 17 | B21: Perambalur | C21: 4 | D21: N | H21: 18.88 | I21: =H21/$C$2 -> 0.0077535934
A22: 18 | B22: Pudukkottai | C22: 13 | D22: N | G22: 1 | H22: =23.63+28.95 -> 52.58 | I22: =H22/$C$2 -> 0.021593429
A23: 19 | B23: Ranipet | C23: 6 | D23: N | H23: 33.84 | I23: =H23/$C$2 -> 0.013897331
A24: 20 | B24: Ramanathapuram | C24: 11 | D24: Y | G24: 2 | H24: =21.2+22.88 -> 44.08 | I24: =H24/$C$2 -> 0.018102669
A25: 21 | B25: Salem | C25: 20 | D25: N | E25: 1 | H25: 117.35 | I25: =H25/$C$2 -> 0.048193018
A26: 22 | B26: Sivaganga | C26: 12 | D26: N | H26: 45.49 | I26: =H26/$C$2 -> 0.018681725
A27: 23 | B27: Tenkasi | C27: 10 | D27: N | H27: 44.73 | I27: =H27/$C$2 -> 0.01836961
A28: 24 | B28: Thanjavur | C28: 14 | D28: N | H28: 76.4 | I28: =H28/$C$2 -> 0.03137577
A29: 25 | B29: The Nilgiris | C29: 4 | D29: N | G29: 1 | H29: 20.94 | I29: =H29/$C$2 -> 0.0085995893
A30: 26 | B30: Theni | C30: 8 | D30: N | H30: 41.36 | I30: =H30/$C$2 -> 0.016985626
A31: 27 | B31: Thiruvallur | C31: 14 | D31: N | H31: =23.72+69.18 -> 92.9 | I31: =H31/$C$2 -> 0.038151951
A32: 28 | B32: Thirupattur | C32: 7 | D32: N | E32: 1 | H32: 62.13 | I32: =H32/$C$2 -> 0.0255154
A33: 29 | B33: Thiruvarur | C33: 10 | D33: N | H33: 40.33 | I33: =H33/$C$2 -> 0.016562628
A34: 30 | B34: Thoothukkudi | C34: 12 | D34: N | G34: 3 | H34: =20.53+35.09 -> 55.62 | I34: =H34/$C$2 -> 0.022841889
A35: 31 | B35: Tiruchirappalli | C35: 14 | D35: N | E35: 2 | H35: 89.14 | I35: =H35/$C$2 -> 0.036607803
A36: 32 | B36: Tirunelveli | C36: 9 | D36: N | G36: 2 | H36: 57.44 | I36: =H36/$C$2 -> 0.023589322
A37: 33 | B37: Tiruppur | C37: 13 | D37: N | H37: 92.45 | I37: =H37/$C$2 -> 0.037967146
A38: 34 | B38: Tiruvannamalai | C38: 18 | D38: N | E38: 2 | H38: =31.07+50.53 -> 81.6 | I38: =H38/$C$2 -> 0.033511294
A39: 35 | B39: Vellore | C39: 7 | D39: N | E39: 1 | H39: 33.86 | I39: =H39/$C$2 -> 0.013905544
A40: 36 | B40: Villupuram | C40: 13 | D40: N | H40: 60.41 | I40: =H40/$C$2 -> 0.024809035
A41: 37 | B41: Virudhunagar | C41: 11 | D41: Y | H41: =40.7+22.45 -> 63.15 | I41: =H41/$C$2 -> 0.025934292
...

Sheet List of Key deliverables
A1: Sl. No. | C1: Key deliverables
C2: Major Milestone | D2: Definition | E2: Achievement during FY 2020-21 Apr'20 - Oct'20 | F2: Target for FY 2021-22 | G2: Source | H2: Frequency of reporting (Monthly/Quarterly/Annually) | I2: Remarks
A3: MH
A4: MH1 | B4: 1. JSSK 2. PMSMA 3. Notification of SUMAN compliant facility 4. Roll out of Midwifery initiative 5. MH trainings 6. Functionalization of MCH wings 7. Functionalization of Obstetric HDU/lCU 8. National LaQshya certification of Labour room and Maternity Operation Theater 9. Strengthening of Maternal death surveillance and review and roll out of MCDSR software. 10. Implementation of AB-Health and Wellness Ambassador initiative | C4: Maternal Mortality Ratio (MMR) | D4: Number of maternal deaths per 1,00,000 live births | E4: 67 ( November 2019 to Oct 2020) | F4: 60 | G4: State HMIS data for 12 months period | H4: Annually | I4: SRS 2016-18 MMR is 60 / Lakh live births
A5: MH2 | C5: Pregnant women given 180 Iron Folic Acid (IFA) Tablets | D5: Percentage of Pregnant Women received 180 lron Folic Acid (lFA) tablets against total pregnant women registered for ANC from 1st April 2020 to 31st March 2021. Numerator: Number of Pregnant Women who have been given Iron Folic Acid (IFA) tablets Denominator: Total no. of Pregnant Women registered for ANC | E5: 95% ( April 2020 - September 2020) | F5: 100 | G5: HMIS | H5: Quarterly AMB Portal Report of GOI
A6: MH3 | C6: Institutional Deliveries | D6: Percentage of institutional deliveries out of total reported deliveries from 1st April 2020 to 31st March 2021. Numerator: Total number of institutional deliveries reported Denominator: Total number of deliveries reported | E6: =552126/552562*100 -> 99.921095 | F6: 100 | G6: HMIS | H6: Quaterly
A7: MH4 | C7: Skilled Birth Attendant [SBA) deliveries | D7: % of SBA (Skilled Birth Attendant] deliveries to total reported deliveries from 1st April 2020 to 31st March 2021. Numerator: Total No. of Institutional Deliveries + home deliveries attended by SBA. Denominator: Total No. of Deliveries reported (institutional + Home) | E7: =552382/552562*100 -> 99.967424 | F7: 100 | G7: HMIS | H7: Quaterly
A8: MH5 | C8: Public health facilities notified under SUMAN | D8: Total number of public health facilities notified under SUMAN from 1st April 2020 to 31st March 2021 | E8: 3606 ( CEmONC packages - 126 BEmONC packages -629 Basic Packages in 1866 Additional PHC/ UPHC and 985 Health and Wellness HSC | F8: =2448-985 -> 1463 | G8: State report | H8: Quaterly | I8: 1463 are the HWC HSC (2448-985 ) which need to included as Basic packages under Suman
A9: MH6 | C9: LR and Maternity OT Nationally certified under LaQshya | D9: Total number of nationally certified labour rooms against total number of LR in identified LaQshya facilities and Total number of nationally certified Maternity Operation Theater against total number of Maternity OT in identified LaQshya facilities (high caseload facilities-CHC & above) from 1st April 2020 to 31st March 2021. | E9: 11/169 (LR) 11/169 (OT) | F9: 66 | G9: State report | H9: Annually | I9: 2018-19 - 2 centre LaQshya certified 2019-20-17 Centre LaQshya certified 2020-21- 11 Centre LaQshya Certified Toatalling to 30 Centres
A10: NTEP
A11: NTEP1 | B11: Key Priorities for NTEP: 1. TB case detection– 1.1. Setting up\strengthening of TB diagnostic services (availability of molecular diagnostics at block level for upfront TB diagnostics) 1.2. Setting up/ strengthening of X-Ray services atleast at block level through health systems/outsourcing 1.3. Private sector engagement through domestic PPSA and transition of JEET PPSA 1.4. Deployment of sample collection and transportation for molecular diagnosis of TB and UDST 1.5. Vulnerability mapping and Active Case Finding 2. TB prevention- 2.1. Strengthen TPT for PLHIV and household contacts < 6 years 2.2. Expansion of TPT to adolescents, adult contacts at households & work places and among vulnerable populations 2.3. Community engagement activities and State / District TB Forum 2.4. Create pool of TB Champions atleast at block level 2.5. Strengthen ACSM activities 3. TB treatment – 3.1. Strengthen access of Anti-TB drugs to patients in private sector 3.2. Expand access of Bedaquiline/ Delamanid to DRTB patients including in private sector 3.3. Strengthen monitoring of adherence to treatment 3.4. Identification and targeted management of high risk TB patient for reducing mortality 3.5. Strengthen all DBT schemes including Nikshay Poshan Yojana 3.6. Estimate requirement for local procurement of medicines and indent for kind grant for central supplies of drugs and diagnostics 4. Human Resource – 4.1. Redeployment of NTEP HR from Covid to TB 4.2. Proposal for additional STS/STLS/LT/TBHV based on workload | C11: Total TB cases notified (Both public and private sectors) | D11: Number of new cases diagnosed and getting notified in NIKSHAY | E11: 31142 | F11: 90000 | G11: Nikshay | H11: Monthly
A12: NTEP2 | C12: State TB Score | D12: Composite score of the following parameters with the weightage summed upto 100: Achievement of notification against the target, HIV testing coverage of TB notified patients, UDST coverage among notified cases, treatement success rate among notified cases in the previous year, percentage of eligible beneficiaries under NIKSHAY POSHAN YOJANA< DRTB treatment initiation among diagnosed cases, percentage expenditure of allotted budget, percentage of children given IPT chemoprophylaxis, percentage of eligible PLHIV patients given chemoprophylaxis | E12: 70.21 | F12: 80 | G12: Nikshay | H12: Quarterly
A13: NTEP3 | C13: Nikshay Poshan Yojana (NPY) - No. of eligible patient receiving first installment of DBT | D13: No. of eligible patient receiving first installment of DBT | E13: 0.794 | F13: 0.8 | G13: Nikshay | H13: Monthly
A14: NTEP4 | C14: No. of districts to achieve TB free Status # Bronze # Silver # Gold #TB Free district/City | D14: Achievement in reduction in incidence of TB s compared to 2015 incidence rate in terms of number of incident TB cases per lakh population: 1) Bronze: 20% reduction, 2)Silver: 40% reduction, 3)Gold: 60% reduction, 4)TB free district/state: >80% reduction | E14: 1 bronze | F14: 6 districts( TB Free Blocks) bronze | G14: MIS NTEP division MoHFW | H14: Annually
A15: NVBDCP
A16: NVBDCP1 | B16: Disease free certification in eligible blocks/disricts for kalaazar, Lymphatic Filariasis, Malaria. MALARIA: • To achieve/sustain API <1 as per categorization of states under Malaria Elimination • Zero indigenous malaria cases in Cat-1 states under Malaria elimination • To make malaria notifiable disease in the State/UT. KALA AZAR • Achieve and sustain Kala-azar elimination in all KA endemic blocks • Reduction in PKDL cases by 30% from the base year 2020 FILARIA: • To conduct annual Mass Drug Administration (MDA)/IDA in all eligible districts with >85% coverage • Successful conduction of Transmission Assessment Survey (TAS) 1/2/3 in eligible districts/Evaluation Units • To provide 100% coverage for home-based morbidity management for lymphoedema cases. To reduce backlog of hydrocele surgeries by 50% from the base year 2019. DENGUE AND CHUKUNGUNYA: • Reduce/sustain case fatality rate for Dengue <1% • To make at least 1 Sentinel site hospital (SSH) functional in each district. • To make Dengue notifiable disease in the State/UT JAPANES ENCEPHALITIS: • >80% coverage for JE vaccination under routine immunization • To reduce morbidity and mortality due to JE/AES. | C16: 29.2 Kala- Azar | D16: Number of endemic blocks reporting < 1 Kala Azar case per 10,000 population at block level | E16: None | F16: None | G16: MIS, NVBDCP division, MoHFW | H16: Monthly
C17: 29.3 Lymphatic Filariasis | D17: Number of districts to conduct MDA | E17: None | F17: Nil | G17: state report | H17: Monthly
D18: Number of endemic districts with <1% Mf rate | E18: 20 | F18: Nil | G18: state report | H18: Monthly
D19: Number of endemic districts with <1% Mf rate validated by TAS | E19: 17 | F19: 20 | G19: state report | H19: Monthly
C20: 29.4. Malaria | D20: Percentage reduction in API | E20: 0.01 | F20: 0.005 | G20: state report | H20: Monthly
D21: Number of districts to achieve Disease Free Status - Malaria | E21: 29 | F21: 30 | G21: state report | H21: Monthly
A22: NVBDCP2 | C22: Reduction in Dengue | D22: 32.1. Reduce/sustain case fatality rate for Dengue at <1% | E22: nil | F22: Nil | G22: state report | H22: Monthly
D23: 32.2. Number of Sentinel site hospital (SSH) set up (1 per district) | E23: 30 | F23: 37 | G23: state report | H23: Monthly
A24: NVBDCP3 | C24: Reduction in Japanese Encephalitis | D24: Vaccination coverage for JE under Routine Immunization | E24: 1.05 | F24: 1 | G24: state report | H24: Monthly
A25: CH
A26: CH1 | B26: 1. Strengthening of Home Based Care of Newborn (HBNC) 2. Strengthening of Special Newborn Care Unit (SNCU) 3. Strengthening of District Early Intervention Centres (DEIC) 4. Newborn Screening at Delivery Points 5. Mobile Health Teams under RBSK Program 6. SAANS Program 7. Aspirational District Program 8. Strengthening of Newborn Stabilization Units including Reporting structure 9. Quality Certification of Facility Based Newborn Care Units 10. Roll out of Home Based Care of Young Child Program (HBYC) 11. Child Death and Still Birth Review System 12. Early Childhood Care and Development (ECD) interventions 13. Strengthening Pediatric Care Service at District level and Sub District level 14. Operationalization of FP-LMIS 15. Comprehensive Abortion Care 16. Nutrition Rehabilitation Center (NRC) 17. Anemia Mukt Bharat Strategy (AMB) 18. National Deworming Day (NDD) 19. Mothers Absolute Affection (MAA) 20. Intensified Diarrhoea Control Fortnight (IDCF) 21. Comprehensive Lactation Management Centers (CLMCs) and Lactation Management Units (LMUs) | C26: Functional SNCU at DH in all Aspirational districts | D26: Number of Aspirational Districts having functional SNCU at DH. | E26: 1 | F26: Nil | G26: SNCU Online | H26: Monthly
D27: Numerator: Total no. Aspirational districts having functional SNCU at DH. | E27: 5
D28: Denominator: Total no. of SNCU approved for Aspirational districts in RoP 2021-22. | E28: 5
A29: CH2 | C29: Functional NBSU at CHC-FRU in all Aspirational districts | D29: Number of Aspirational Districts having functional NBSU at CHC-FRU. | E29: 1 | F29: Nil | G29: State Report | H29: Quarterly
D30: Numerator: Total no. Aspirational districts havingfunctional NBSU at CHC-FRU in F.Y. 2021-22. | E30: 13
D31: Denominator:Total no. of NBSU approved for Aspirational districts in RoP 2021-22. | E31: 13
A32: CH3 | C32: Newborn visited under HBNC | D32: Percentage of newborns visited under Home Based Newborn Care (HBNC) | E32: =E33/E34 -> 0.77039615 | F32: 931511 | G32: State PICME Report | H32: Quarterly
D33: Numerator: No. of newborns received scheduled home visits under HBNC by ASHAs/VHN. | E33: 334194
D34: Denominator: Target no. of newborns as approved in RoP 2021-22. (Apr'20-Sep'20) | E34: 433795
A35: CH4 | C35: Implementation of HBYC Program | D35: Percentage of HBYC training (ASHA/ASHA facilitator/ANMs) batches conducted against approved in RoP 2021-22. | E35: 12.4 % 2520 ASHAs trained . Due to Covid pandemic HBYC training will be taken during Jan 2021. The Excecutive Committee of NHM Tamilnadu have given approval for 10 districts instead of 24 districts. Hence the Target of ASHA- AWW are 20356. | F35: Nil | G35: State Report | H35: Monthly Reporting
D36: Numerator: No. of HBYC training (ASHA/ASHA facilitator/ANMs) batches completed in F.Y. 2021-22.
D37: Denominator: Total no. of HBYC training batches approved in RoP 2021-22.
A38: CH5 | C38: Strengthening of facility based pediatric care services at district hospital | D38: Total number of Operational Pediatric dedicated Emergency Triage and treatment (ETAT) centre. | E38: 29 functioning since 2017 as PREM Unit | F38: Nil | G38: State Report | H38: Quarterly from State HMIS through PREM application
D39: Numerator: Total no. of ETAT functional at district hospital in F.Y. 2021-22.
D40: Denominator: Total no. of ETAT approved in RoP 2021-22.
...

Sheet Summary Table
A1: National Programmes (NRHM+NUHM)
A2: =HYPERLINK("#Index!B1", "Index Pg") -> Index Pg | B2: =HYPERLINK("#'Budget Summary II'!A2:B2", "Budget Summary II") -> Budget Summary II | C2: Total | E2: Service Delivery | G2: Financing | I2: Medicines and Equipment | K2: Health workforce | M2: Leadership/ Governance | O2: Health Information Systems | Q2: Innovation
C3: Proposed | D3: Approved | E3: Proposed | F3: Approved | G3: Proposed | H3: Approved | I3: Proposed | J3: Approved | K3: Proposed | L3: Approved | M3: Proposed | N3: Approved | O3: Proposed | P3: Approved | Q3: Proposed | R3: Approved
A4: Total | B4: Total NHM | C4: =SUM(C6:C56) -> 8832.2148 | D4: =SUM(D6:D56) -> 0 | E4: =SUM(E6:E56) -> 2099.7234 | F4: =SUM(F6:F56) -> 0 | G4: =SUM(G6:G56) -> 0 | H4: =SUM(H6:H56) -> 0 | I4: =SUM(I6:I56) -> 6139.0084 | J4: =SUM(J6:J56) -> 0 | ... R4: =SUM(R6:R56) -> 0
B5: Total NUHM | C5: =SUM(C57:C59) -> 3539.0526 | D5: =SUM(D57:D59) -> 0 | E5: =SUM(E57:E59) -> 134 | F5: =SUM(F57:F59) -> 0 | G5: =SUM(G57:G59) -> 0 | H5: =SUM(H57:H59) -> 0 | I5: =SUM(I57:I59) -> 0 | J5: =SUM(J57:J59) -> 0 | ... R5: =SUM(R57:R59) -> 0
A6: RCH Flexible Pool (including RI, IPPI, NIDDCP) | B6: Maternal Health | C6: =E6+G6+I6+K6+M6+O6+Q6 -> 2024.9999 | D6: =F6+H6+J6+L6+N6+P6+R6 -> 0 | E6: ='Budget Summary I'!E8+'Budget Summary I'!G8+'Budget Summary I'!I8+'Budget Summary I'!K8+'Budget Summary I'!M8+'Budget Summary I'!O8+'Budget Summary I'!Q8+'Budget Summary I'!S8 -> 0 | F6: ='Budget Summary I'!F8+'Budget Summary I'!H8+'Budget Summary I'!J8+'Budget Summary I'!L8+'Budget Summary I'!N8+'Budget Summary I'!P8+'Budget Summary I'!R8+'Budget Summary I'!T8 -> 0 | G6: ='Budget Summary I'!U8+'Budget Summary I'!W8 -> 0 | H6: ='Budget Summary I'!V8+'Budget Summary I'!X8 -> 0 | I6: ='Budget Summary I'!Y8+'Budget Summary I'!AA8 -> 2024.9999 | J6: ='Budget Summary I'!Z8+'Budget Summary I'!AB8 -> 0 | K6: ='Budget Summary I'!AC8+'Budget Summary I'!AE8 -> 0 | L6: ='Budget Summary I'!AD8+'Budget Summary I'!AF8 -> 0 | M6: ='Budget Summary I'!AG8 -> 0 | N6: ='Budget Summary I'!AH8 -> 0 | O6: ='Budget Summary I'!AI8+'Budget Summary I'!AK8 -> 0 | P6: ='Budget Summary I'!AJ8+'Budget Summary I'!AL8 -> 0 | Q6: ='Budget Summary I'!AM8 -> 0 | R6: ='Budget Summary I'!AN8 -> 0
B7: Child Health | C7: =E7+G7+I7+K7+M7+O7+Q7 -> 21.153 | D7: =F7+H7+J7+L7+N7+P7+R7 -> 0 | E7: ='Budget Summary I'!E9+'Budget Summary I'!G9+'Budget Summary I'!I9+'Budget Summary I'!K9+'Budget Summary I'!M9+'Budget Summary I'!O9+'Budget Summary I'!Q9+'Budget Summary I'!S9 -> 0 | F7: ='Budget Summary I'!F9+'Budget Summary I'!H9+'Budget Summary I'!J9+'Budget Summary I'!L9+'Budget Summary I'!N9+'Budget Summary I'!P9+'Budget Summary I'!R9+'Budget Summary I'!T9 -> 0 | G7: ='Budget Summary I'!U9+'Budget Summary I'!W9 -> 0 | H7: ='Budget Summary I'!V9+'Budget Summary I'!X9 -> 0 | I7: ='Budget Summary I'!Y9+'Budget Summary I'!AA9 -> 12 | J7: ='Budget Summary I'!Z9+'Budget Summary I'!AB9 -> 0 | K7: ='Budget Summary I'!AC9+'Budget Summary I'!AE9 -> 9.153 | L7: ='Budget Summary I'!AD9+'Budget Summary I'!AF9 -> 0 | M7: ='Budget Summary I'!AG9 -> 0 | N7: ='Budget Summary I'!AH9 -> 0 | O7: ='Budget Summary I'!AI9+'Budget Summary I'!AK9 -> 0 | P7: ='Budget Summary I'!AJ9+'Budget Summary I'!AL9 -> 0 | Q7: ='Budget Summary I'!AM9 -> 0 | R7: ='Budget Summary I'!AN9 -> 0
B8: Family Planning | C8: =E8+G8+I8+K8+M8+O8+Q8 -> 0 | D8: =F8+H8+J8+L8+N8+P8+R8 -> 0 | E8: ='Budget Summary I'!E10+'Budget Summary I'!G10+'Budget Summary I'!I10+'Budget Summary I'!K10+'Budget Summary I'!M10+'Budget Summary I'!O10+'Budget Summary I'!Q10+'Budget Summary I'!S10 -> 0 | F8: ='Budget Summary I'!F10+'Budget Summary I'!H10+'Budget Summary I'!J10+'Budget Summary I'!L10+'Budget Summary I'!N10+'Budget Summary I'!P10+'Budget Summary I'!R10+'Budget Summary I'!T10 -> 0 | G8: ='Budget Summary I'!U10+'Budget Summary I'!W10 -> 0 | H8: ='Budget Summary I'!V10+'Budget Summary I'!X10 -> 0 | I8: ='Budget Summary I'!Y10+'Budget Summary I'!AA10 -> 0 | J8: ='Budget Summary I'!Z10+'Budget Summary I'!AB10 -> 0 | K8: ='Budget Summary I'!AC10+'Budget Summary I'!AE10 -> 0 | L8: ='Budget Summary I'!AD10+'Budget Summary I'!AF10 -> 0 | M8: ='Budget Summary I'!AG10 -> 0 | N8: ='Budget Summary I'!AH10 -> 0 | O8: ='Budget Summary I'!AI10+'Budget Summary I'!AK10 -> 0 | P8: ='Budget Summary I'!AJ10+'Budget Summary I'!AL10 -> 0 | Q8: ='Budget Summary I'!AM10 -> 0 | R8: ='Budget Summary I'!AN10 -> 0
B9: RKSK/ Adolescent health | C9: =E9+G9+I9+K9+M9+O9+Q9 -> 0 | D9: =F9+H9+J9+L9+N9+P9+R9 -> 0 | E9: ='Budget Summary I'!E11+'Budget Summary I'!G11+'Budget Summary I'!I11+'Budget Summary I'!K11+'Budget Summary I'!M11+'Budget Summary I'!O11+'Budget Summary I'!Q11+'Budget Summary I'!S11 -> 0 | F9: ='Budget Summary I'!F11+'Budget Summary I'!H11+'Budget Summary I'!J11+'Budget Summary I'!L11+'Budget Summary I'!N11+'Budget Summary I'!P11+'Budget Summary I'!R11+'Budget Summary I'!T11 -> 0 | G9: ='Budget Summary I'!U11+'Budget Summary I'!W11 -> 0 | H9: ='Budget Summary I'!V11+'Budget Summary I'!X11 -> 0 | I9: ='Budget Summary I'!Y11+'Budget Summary I'!AA11 -> 0 | J9: ='Budget Summary I'!Z11+'Budget Summary I'!AB11 -> 0 | K9: ='Budget Summary I'!AC11+'Budget Summary I'!AE11 -> 0 | L9: ='Budget Summary I'!AD11+'Budget Summary I'!AF11 -> 0 | M9: ='Budget Summary I'!AG11 -> 0 | N9: ='Budget Summary I'!AH11 -> 0 | O9: ='Budget Summary I'!AI11+'Budget Summary I'!AK11 -> 0 | P9: ='Budget Summary I'!AJ11+'Budget Summary I'!AL11 -> 0 | Q9: ='Budget Summary I'!AM11 -> 0 | R9: ='Budget Summary I'!AN11 -> 0
B10: RBSK | C10: =E10+G10+I10+K10+M10+O10+Q10 -> 241.5 | D10: =F10+H10+J10+L10+N10+P10+R10 -> 0 | E10: ='Budget Summary I'!E12+'Budget Summary I'!G12+'Budget Summary I'!I12+'Budget Summary I'!K12+'Budget Summary I'!M12+'Budget Summary I'!O12+'Budget Summary I'!Q12+'Budget Summary I'!S12 -> 241.5 | F10: ='Budget Summary I'!F12+'Budget Summary I'!H12+'Budget Summary I'!J12+'Budget Summary I'!L12+'Budget Summary I'!N12+'Budget Summary I'!P12+'Budget Summary I'!R12+'Budget Summary I'!T12 -> 0 | G10: ='Budget Summary I'!U12+'Budget Summary I'!W12 -> 0 | H10: ='Budget Summary I'!V12+'Budget Summary I'!X12 -> 0 | I10: ='Budget Summary I'!Y12+'Budget Summary I'!AA12 -> 0 | J10: ='Budget Summary I'!Z12+'Budget Summary I'!AB12 -> 0 | K10: ='Budget Summary I'!AC12+'Budget Summary I'!AE12 -> 0 | L10: ='Budget Summary I'!AD12+'Budget Summary I'!AF12 -> 0 | M10: ='Budget Summary I'!AG12 -> 0 | N10: ='Budget Summary I'!AH12 -> 0 | O10: ='Budget Summary I'!AI12+'Budget Summary I'!AK12 -> 0 | P10: ='Budget Summary I'!AJ12+'Budget Summary I'!AL12 -> 0 | Q10: ='Budget Summary I'!AM12 -> 0 | R10: ='Budget Summary I'!AN12 -> 0
B11: PC-PNDT | C11: =E11+G11+I11+K11+M11+O11+Q11 -> 0 | D11: =F11+H11+J11+L11+N11+P11+R11 -> 0 | E11: ='Budget Summary I'!E13+'Budget Summary I'!G13+'Budget Summary I'!I13+'Budget Summary I'!K13+'Budget Summary I'!M13+'Budget Summary I'!O13+'Budget Summary I'!Q13+'Budget Summary I'!S13 -> 0 | F11: ='Budget Summary I'!F13+'Budget Summary I'!H13+'Budget Summary I'!J13+'Budget Summary I'!L13+'Budget Summary I'!N13+'Budget Summary I'!P13+'Budget Summary I'!R13+'Budget Summary I'!T13 -> 0 | G11: ='Budget Summary I'!U13+'Budget Summary I'!W13 -> 0 | H11: ='Budget Summary I'!V13+'Budget Summary I'!X13 -> 0 | I11: ='Budget Summary I'!Y13+'Budget Summary I'!AA13 -> 0 | J11: ='Budget Summary I'!Z13+'Budget Summary I'!AB13 -> 0 | K11: ='Budget Summary I'!AC13+'Budget Summary I'!AE13 -> 0 | L11: ='Budget Summary I'!AD13+'Budget Summary I'!AF13 -> 0 | M11: ='Budget Summary I'!AG13 -> 0 | N11: ='Budget Summary I'!AH13 -> 0 | O11: ='Budget Summary I'!AI13+'Budget Summary I'!AK13 -> 0 | P11: ='Budget Summary I'!AJ13+'Budget Summary I'!AL13 -> 0 | Q11: ='Budget Summary I'!AM13 -> 0 | R11: ='Budget Summary I'!AN13 -> 0
B12: Immunization | C12: =E12+G12+I12+K12+M12+O12+Q12 -> 0 | D12: =F12+H12+J12+L12+N12+P12+R12 -> 0 | E12: ='Budget Summary I'!E14+'Budget Summary I'!G14+'Budget Summary I'!I14+'Budget Summary I'!K14+'Budget Summary I'!M14+'Budget Summary I'!O14+'Budget Summary I'!Q14+'Budget Summary I'!S14 -> 0 | F12: ='Budget Summary I'!F14+'Budget Summary I'!H14+'Budget Summary I'!J14+'Budget Summary I'!L14+'Budget Summary I'!N14+'Budget Summary I'!P14+'Budget Summary I'!R14+'Budget Summary I'!T14 -> 0 | G12: ='Budget Summary I'!U14+'Budget Summary I'!W14 -> 0 | H12: ='Budget Summary I'!V14+'Budget Summary I'!X14 -> 0 | I12: ='Budget Summary I'!Y14+'Budget Summary I'!AA14 -> 0 | J12: ='Budget Summary I'!Z14+'Budget Summary I'!AB14 -> 0 | K12: ='Budget Summary I'!AC14+'Budget Summary I'!AE14 -> 0 | L12: ='Budget Summary I'!AD14+'Budget Summary I'!AF14 -> 0 | M12: ='Budget Summary I'!AG14 -> 0 | N12: ='Budget Summary I'!AH14 -> 0 | O12: ='Budget Summary I'!AI14+'Budget Summary I'!AK14 -> 0 | P12: ='Budget Summary I'!AJ14+'Budget Summary I'!AL14 -> 0 | Q12: ='Budget Summary I'!AM14 -> 0 | R12: ='Budget Summary I'!AN14 -> 0
B13: RCH Others (Tribal and Vulnerable) | C13: =E13+G13+I13+K13+M13+O13+Q13 -> 0 | D13: =F13+H13+J13+L13+N13+P13+R13 -> 0 | E13: ='Budget Summary I'!E15+'Budget Summary I'!G15+'Budget Summary I'!I15+'Budget Summary I'!K15+'Budget Summary I'!M15+'Budget Summary I'!O15+'Budget Summary I'!Q15+'Budget Summary I'!S15 -> 0 | F13: ='Budget Summary I'!F15+'Budget Summary I'!H15+'Budget Summary I'!J15+'Budget Summary I'!L15+'Budget Summary I'!N15+'Budget Summary I'!P15+'Budget Summary I'!R15+'Budget Summary I'!T15 -> 0 | G13: ='Budget Summary I'!U15+'Budget Summary I'!W15 -> 0 | H13: ='Budget Summary I'!V15+'Budget Summary I'!X15 -> 0 | I13: ='Budget Summary I'!Y15+'Budget Summary I'!AA15 -> 0 | J13: ='Budget Summary I'!Z15+'Budget Summary I'!AB15 -> 0 | K13: ='Budget Summary I'!AC15+'Budget Summary I'!AE15 -> 0 | L13: ='Budget Summary I'!AD15+'Budget Summary I'!AF15 -> 0 | M13: ='Budget Summary I'!AG15 -> 0 | N13: ='Budget Summary I'!AH15 -> 0 | O13: ='Budget Summary I'!AI15+'Budget Summary I'!AK15 -> 0 | P13: ='Budget Summary I'!AJ15+'Budget Summary I'!AL15 -> 0 | Q13: ='Budget Summary I'!AM15 -> 0 | R13: ='Budget Summary I'!AN15 -> 0
B14: RCH Pool (Excluding listed above) | C14: =E14+G14+I14+K14+M14+O14+Q14 -> 0 | D14: =F14+H14+J14+L14+N14+P14+R14 -> 0 | E14: ='Budget Summary I'!E16+'Budget Summary I'!G16+'Budget Summary I'!I16+'Budget Summary I'!K16+'Budget Summary I'!M16+'Budget Summary I'!O16+'Budget Summary I'!Q16+'Budget Summary I'!S16 -> 0 | F14: ='Budget Summary I'!F16+'Budget Summary I'!H16+'Budget Summary I'!J16+'Budget Summary I'!L16+'Budget Summary I'!N16+'Budget Summary I'!P16+'Budget Summary I'!R16+'Budget Summary I'!T16 -> 0 | G14: ='Budget Summary I'!U16+'Budget Summary I'!W16 -> 0 | H14: ='Budget Summary I'!V16+'Budget Summary I'!X16 -> 0 | I14: ='Budget Summary I'!Y16+'Budget Summary I'!AA16 -> 0 | J14: ='Budget Summary I'!Z16+'Budget Summary I'!AB16 -> 0 | K14: ='Budget Summary I'!AC16+'Budget Summary I'!AE16 -> 0 | L14: ='Budget Summary I'!AD16+'Budget Summary I'!AF16 -> 0 | M14: ='Budget Summary I'!AG16 -> 0 | N14: ='Budget Summary I'!AH16 -> 0 | O14: ='Budget Summary I'!AI16+'Budget Summary I'!AK16 -> 0 | P14: ='Budget Summary I'!AJ16+'Budget Summary I'!AL16 -> 0 | Q14: ='Budget Summary I'!AM16 -> 0 | R14: ='Budget Summary I'!AN16 -> 0
B15: National Iodine Deficiency Disorders Control Programme (NIDDCP) | C15: =E15+G15+I15+K15+M15+O15+Q15 -> 0 | D15: =F15+H15+J15+L15+N15+P15+R15 -> 0 | E15: ='Budget Summary I'!E17+'Budget Summary I'!G17+'Budget Summary I'!I17+'Budget Summary I'!K17+'Budget Summary I'!M17+'Budget Summary I'!O17+'Budget Summary I'!Q17+'Budget Summary I'!S17 -> 0 | F15: ='Budget Summary I'!F17+'Budget Summary I'!H17+'Budget Summary I'!J17+'Budget Summary I'!L17+'Budget Summary I'!N17+'Budget Summary I'!P17+'Budget Summary I'!R17+'Budget Summary I'!T17 -> 0 | G15: ='Budget Summary I'!U17+'Budget Summary I'!W17 -> 0 | H15: ='Budget Summary I'!V17+'Budget Summary I'!X17 -> 0 | I15: ='Budget Summary I'!Y17+'Budget Summary I'!AA17 -> 0 | J15: ='Budget Summary I'!Z17+'Budget Summary I'!AB17 -> 0 | K15: ='Budget Summary I'!AC17+'Budget Summary I'!AE17 -> 0 | L15: ='Budget Summary I'!AD17+'Budget Summary I'!AF17 -> 0 | M15: ='Budget Summary I'!AG17 -> 0 | N15: ='Budget Summary I'!AH17 -> 0 | O15: ='Budget Summary I'!AI17+'Budget Summary I'!AK17 -> 0 | P15: ='Budget Summary I'!AJ17+'Budget Summary I'!AL17 -> 0 | Q15: ='Budget Summary I'!AM17 -> 0 | R15: ='Budget Summary I'!AN17 -> 0
A16: HSS Flexi Pool | B16: Comprehensive Primary Healthcare (CPHC) | C16: =E16+G16+I16+K16+M16+O16+Q16 -> 300 | D16: =F16+H16+J16+L16+N16+P16+R16 -> 0 | E16: ='Budget Summary I'!E18+'Budget Summary I'!G18+'Budget Summary I'!I18+'Budget Summary I'!K18+'Budget Summary I'!M18+'Budget Summary I'!O18+'Budget Summary I'!Q18+'Budget Summary I'!S18 -> 0 | F16: ='Budget Summary I'!F18+'Budget Summary I'!H18+'Budget Summary I'!J18+'Budget Summary I'!L18+'Budget Summary I'!N18+'Budget Summary I'!P18+'Budget Summary I'!R18+'Budget Summary I'!T18 -> 0 | G16: ='Budget Summary I'!U18+'Budget Summary I'!W18 -> 0 | H16: ='Budget Summary I'!V18+'Budget Summary I'!X18 -> 0 | I16: ='Budget Summary I'!Y18+'Budget Summary I'!AA18 -> 0 | J16: ='Budget Summary I'!Z18+'Budget Summary I'!AB18 -> 0 | K16: ='Budget Summary I'!AC18+'Budget Summary I'!AE18 -> 300 | L16: ='Budget Summary I'!AD18+'Budget Summary I'!AF18 -> 0 | M16: ='Budget Summary I'!AG18 -> 0 | N16: ='Budget Summary I'!AH18 -> 0 | O16: ='Budget Summary I'!AI18+'Budget Summary I'!AK18 -> 0 | P16: ='Budget Summary I'!AJ18+'Budget Summary I'!AL18 -> 0 | Q16: ='Budget Summary I'!AM18 -> 0 | R16: ='Budget Summary I'!AN18 -> 0
B17: ASHA | C17: =E17+G17+I17+K17+M17+O17+Q17 -> 0 | D17: =F17+H17+J17+L17+N17+P17+R17 -> 0 | E17: ='Budget Summary I'!E19+'Budget Summary I'!G19+'Budget Summary I'!I19+'Budget Summary I'!K19+'Budget Summary I'!M19+'Budget Summary I'!O19+'Budget Summary I'!Q19+'Budget Summary I'!S19 -> 0 | F17: ='Budget Summary I'!F19+'Budget Summary I'!H19+'Budget Summary I'!J19+'Budget Summary I'!L19+'Budget Summary I'!N19+'Budget Summary I'!P19+'Budget Summary I'!R19+'Budget Summary I'!T19 -> 0 | G17: ='Budget Summary I'!U19+'Budget Summary I'!W19 -> 0 | H17: ='Budget Summary I'!V19+'Budget Summary I'!X19 -> 0 | I17: ='Budget Summary I'!Y19+'Budget Summary I'!AA19 -> 0 | J17: ='Budget Summary I'!Z19+'Budget Summary I'!AB19 -> 0 | K17: ='Budget Summary I'!AC19+'Budget Summary I'!AE19 -> 0 | L17: ='Budget Summary I'!AD19+'Budget Summary I'!AF19 -> 0 | M17: ='Budget Summary I'!AG19 -> 0 | N17: ='Budget Summary I'!AH19 -> 0 | O17: ='Budget Summary I'!AI19+'Budget Summary I'!AK19 -> 0 | P17: ='Budget Summary I'!AJ19+'Budget Summary I'!AL19 -> 0 | Q17: ='Budget Summary I'!AM19 -> 0 | R17: ='Budget Summary I'!AN19 -> 0
B18: Infrastructure | C18: =E18+G18+I18+K18+M18+O18+Q18 -> 0 | D18: =F18+H18+J18+L18+N18+P18+R18 -> 0 | E18: ='Budget Summary I'!E20+'Budget Summary I'!G20+'Budget Summary I'!I20+'Budget Summary I'!K20+'Budget Summary I'!M20+'Budget Summary I'!O20+'Budget Summary I'!Q20+'Budget Summary I'!S20 -> 0 | F18: ='Budget Summary I'!F20+'Budget Summary I'!H20+'Budget Summary I'!J20+'Budget Summary I'!L20+'Budget Summary I'!N20+'Budget Summary I'!P20+'Budget Summary I'!R20+'Budget Summary I'!T20 -> 0 | G18: ='Budget Summary I'!U20+'Budget Summary I'!W20 -> 0 | H18: ='Budget Summary I'!V20+'Budget Summary I'!X20 -> 0 | I18: ='Budget Summary I'!Y20+'Budget Summary I'!AA20 -> 0 | J18: ='Budget Summary I'!Z20+'Budget Summary I'!AB20 -> 0 | K18: ='Budget Summary I'!AC20+'Budget Summary I'!AE20 -> 0 | L18: ='Budget Summary I'!AD20+'Budget Summary I'!AF20 -> 0 | M18: ='Budget Summary I'!AG20 -> 0 | N18: ='Budget Summary I'!AH20 -> 0 | O18: ='Budget Summary I'!AI20+'Budget Summary I'!AK20 -> 0 | P18: ='Budget Summary I'!AJ20+'Budget Summary I'!AL20 -> 0 | Q18: ='Budget Summary I'!AM20 -> 0 | R18: ='Budget Summary I'!AN20 -> 0
B19: Referral Transport including NAS | C19: =E19+G19+I19+K19+M19+O19+Q19 -> 0 | D19: =F19+H19+J19+L19+N19+P19+R19 -> 0 | E19: ='Budget Summary I'!E21+'Budget Summary I'!G21+'Budget Summary I'!I21+'Budget Summary I'!K21+'Budget Summary I'!M21+'Budget Summary I'!O21+'Budget Summary I'!Q21+'Budget Summary I'!S21 -> 0 | F19: ='Budget Summary I'!F21+'Budget Summary I'!H21+'Budget Summary I'!J21+'Budget Summary I'!L21+'Budget Summary I'!N21+'Budget Summary I'!P21+'Budget Summary I'!R21+'Budget Summary I'!T21 -> 0 | G19: ='Budget Summary I'!U21+'Budget Summary I'!W21 -> 0 | H19: ='Budget Summary I'!V21+'Budget Summary I'!X21 -> 0 | I19: ='Budget Summary I'!Y21+'Budget Summary I'!AA21 -> 0 | J19: ='Budget Summary I'!Z21+'Budget Summary I'!AB21 -> 0 | K19: ='Budget Summary I'!AC21+'Budget Summary I'!AE21 -> 0 | L19: ='Budget Summary I'!AD21+'Budget Summary I'!AF21 -> 0 | M19: ='Budget Summary I'!AG21 -> 0 | N19: ='Budget Summary I'!AH21 -> 0 | O19: ='Budget Summary I'!AI21+'Budget Summary I'!AK21 -> 0 | P19: ='Budget Summary I'!AJ21+'Budget Summary I'!AL21 -> 0 | Q19: ='Budget Summary I'!AM21 -> 0 | R19: ='Budget Summary I'!AN21 -> 0
B20: National MMU | C20: =E20+G20+I20+K20+M20+O20+Q20 -> 118.5 | D20: =F20+H20+J20+L20+N20+P20+R20 -> 0 | E20: ='Budget Summary I'!E22+'Budget Summary I'!G22+'Budget Summary I'!I22+'Budget Summary I'!K22+'Budget Summary I'!M22+'Budget Summary I'!O22+'Budget Summary I'!Q22+'Budget Summary I'!S22 -> 118.5 | F20: ='Budget Summary I'!F22+'Budget Summary I'!H22+'Budget Summary I'!J22+'Budget Summary I'!L22+'Budget Summary I'!N22+'Budget Summary I'!P22+'Budget Summary I'!R22+'Budget Summary I'!T22 -> 0 | G20: ='Budget Summary I'!U22+'Budget Summary I'!W22 -> 0 | H20: ='Budget Summary I'!V22+'Budget Summary I'!X22 -> 0 | I20: ='Budget Summary I'!Y22+'Budget Summary I'!AA22 -> 0 | J20: ='Budget Summary I'!Z22+'Budget Summary I'!AB22 -> 0 | K20: ='Budget Summary I'!AC22+'Budget Summary I'!AE22 -> 0 | L20: ='Budget Summary I'!AD22+'Budget Summary I'!AF22 -> 0 | M20: ='Budget Summary I'!AG22 -> 0 | N20: ='Budget Summary I'!AH22 -> 0 | O20: ='Budget Summary I'!AI22+'Budget Summary I'!AK22 -> 0 | P20: ='Budget Summary I'!AJ22+'Budget Summary I'!AL22 -> 0 | Q20: ='Budget Summary I'!AM22 -> 0 | R20: ='Budget Summary I'!AN22 -> 0
B21: Community Action | C21: =E21+G21+I21+K21+M21+O21+Q21 -> 0 | D21: =F21+H21+J21+L21+N21+P21+R21 -> 0 | E21: ='Budget Summary I'!E23+'Budget Summary I'!G23+'Budget Summary I'!I23+'Budget Summary I'!K23+'Budget Summary I'!M23+'Budget Summary I'!O23+'Budget Summary I'!Q23+'Budget Summary I'!S23 -> 0 | F21: ='Budget Summary I'!F23+'Budget Summary I'!H23+'Budget Summary I'!J23+'Budget Summary I'!L23+'Budget Summary I'!N23+'Budget Summary I'!P23+'Budget Summary I'!R23+'Budget Summary I'!T23 -> 0 | G21: ='Budget Summary I'!U23+'Budget Summary I'!W23 -> 0 | H21: ='Budget Summary I'!V23+'Budget Summary I'!X23 -> 0 | I21: ='Budget Summary I'!Y23+'Budget Summary I'!AA23 -> 0 | J21: ='Budget Summary I'!Z23+'Budget Summary I'!AB23 -> 0 | K21: ='Budget Summary I'!AC23+'Budget Summary I'!AE23 -> 0 | L21: ='Budget Summary I'!AD23+'Budget Summary I'!AF23 -> 0 | M21: ='Budget Summary I'!AG23 -> 0 | N21: ='Budget Summary I'!AH23 -> 0 | O21: ='Budget Summary I'!AI23+'Budget Summary I'!AK23 -> 0 | P21: ='Budget Summary I'!AJ23+'Budget Summary I'!AL23 -> 0 | Q21: ='Budget Summary I'!AM23 -> 0 | R21: ='Budget Summary I'!AN23 -> 0
B22: Quality Assurance | C22: =E22+G22+I22+K22+M22+O22+Q22 -> 1719.7234 | D22: =F22+H22+J22+L22+N22+P22+R22 -> 0 | E22: ='Budget Summary I'!E24+'Budget Summary I'!G24+'Budget Summary I'!I24+'Budget Summary I'!K24+'Budget Summary I'!M24+'Budget Summary I'!O24+'Budget Summary I'!Q24+'Budget Summary I'!S24 -> 1719.7234 | F22: ='Budget Summary I'!F24+'Budget Summary I'!H24+'Budget Summary I'!J24+'Budget Summary I'!L24+'Budget Summary I'!N24+'Budget Summary I'!P24+'Budget Summary I'!R24+'Budget Summary I'!T24 -> 0 | G22: ='Budget Summary I'!U24+'Budget Summary I'!W24 -> 0 | H22: ='Budget Summary I'!V24+'Budget Summary I'!X24 -> 0 | I22: ='Budget Summary I'!Y24+'Budget Summary I'!AA24 -> 0 | J22: ='Budget Summary I'!Z24+'Budget Summary I'!AB24 -> 0 | K22: ='Budget Summary I'!AC24+'Budget Summary I'!AE24 -> 0 | L22: ='Budget Summary I'!AD24+'Budget Summary I'!AF24 -> 0 | M22: ='Budget Summary I'!AG24 -> 0 | N22: ='Budget Summary I'!AH24 -> 0 | O22: ='Budget Summary I'!AI24+'Budget Summary I'!AK24 -> 0 | P22: ='Budget Summary I'!AJ24+'Budget Summary I'!AL24 -> 0 | Q22: ='Budget Summary I'!AM24 -> 0 | R22: ='Budget Summary I'!AN24 -> 0
B23: IEC | C23: =E23+G23+I23+K23+M23+O23+Q23 -> 0 | D23: =F23+H23+J23+L23+N23+P23+R23 -> 0 | E23: ='Budget Summary I'!E25+'Budget Summary I'!G25+'Budget Summary I'!I25+'Budget Summary I'!K25+'Budget Summary I'!M25+'Budget Summary I'!O25+'Budget Summary I'!Q25+'Budget Summary I'!S25 -> 0 | F23: ='Budget Summary I'!F25+'Budget Summary I'!H25+'Budget Summary I'!J25+'Budget Summary I'!L25+'Budget Summary I'!N25+'Budget Summary I'!P25+'Budget Summary I'!R25+'Budget Summary I'!T25 -> 0 | G23: ='Budget Summary I'!U25+'Budget Summary I'!W25 -> 0 | H23: ='Budget Summary I'!V25+'Budget Summary I'!X25 -> 0 | I23: ='Budget Summary I'!Y25+'Budget Summary I'!AA25 -> 0 | J23: ='Budget Summary I'!Z25+'Budget Summary I'!AB25 -> 0 | K23: ='Budget Summary I'!AC25+'Budget Summary I'!AE25 -> 0 | L23: ='Budget Summary I'!AD25+'Budget Summary I'!AF25 -> 0 | M23: ='Budget Summary I'!AG25 -> 0 | N23: ='Budget Summary I'!AH25 -> 0 | O23: ='Budget Summary I'!AI25+'Budget Summary I'!AK25 -> 0 | P23: ='Budget Summary I'!AJ25+'Budget Summary I'!AL25 -> 0 | Q23: ='Budget Summary I'!AM25 -> 0 | R23: ='Budget Summary I'!AN25 -> 0
B24: Untied Fund | C24: =E24+G24+I24+K24+M24+O24+Q24 -> 0 | D24: =F24+H24+J24+L24+N24+P24+R24 -> 0 | E24: ='Budget Summary I'!E26+'Budget Summary I'!G26+'Budget Summary I'!I26+'Budget Summary I'!K26+'Budget Summary I'!M26+'Budget Summary I'!O26+'Budget Summary I'!Q26+'Budget Summary I'!S26 -> 0 | F24: ='Budget Summary I'!F26+'Budget Summary I'!H26+'Budget Summary I'!J26+'Budget Summary I'!L26+'Budget Summary I'!N26+'Budget Summary I'!P26+'Budget Summary I'!R26+'Budget Summary I'!T26 -> 0 | G24: ='Budget Summary I'!U26+'Budget Summary I'!W26 -> 0 | H24: ='Budget Summary I'!V26+'Budget Summary I'!X26 -> 0 | I24: ='Budget Summary I'!Y26+'Budget Summary I'!AA26 -> 0 | J24: ='Budget Summary I'!Z26+'Budget Summary I'!AB26 -> 0 | K24: ='Budget Summary I'!AC26+'Budget Summary I'!AE26 -> 0 | L24: ='Budget Summary I'!AD26+'Budget Summary I'!AF26 -> 0 | M24: ='Budget Summary I'!AG26 -> 0 | N24: ='Budget Summary I'!AH26 -> 0 | O24: ='Budget Summary I'!AI26+'Budget Summary I'!AK26 -> 0 | P24: ='Budget Summary I'!AJ26+'Budget Summary I'!AL26 -> 0 | Q24: ='Budget Summary I'!AM26 -> 0 | R24: ='Budget Summary I'!AN26 -> 0
B25: PPP | C25: =E25+G25+I25+K25+M25+O25+Q25 -> 0 | D25: =F25+H25+J25+L25+N25+P25+R25 -> 0 | E25: ='Budget Summary I'!E27+'Budget Summary I'!G27+'Budget Summary I'!I27+'Budget Summary I'!K27+'Budget Summary I'!M27+'Budget Summary I'!O27+'Budget Summary I'!Q27+'Budget Summary I'!S27 -> 0 | F25: ='Budget Summary I'!F27+'Budget Summary I'!H27+'Budget Summary I'!J27+'Budget Summary I'!L27+'Budget Summary I'!N27+'Budget Summary I'!P27+'Budget Summary I'!R27+'Budget Summary I'!T27 -> 0 | G25: ='Budget Summary I'!U27+'Budget Summary I'!W27 -> 0 | H25: ='Budget Summary I'!V27+'Budget Summary I'!X27 -> 0 | I25: ='Budget Summary I'!Y27+'Budget Summary I'!AA27 -> 0 | J25: ='Budget Summary I'!Z27+'Budget Summary I'!AB27 -> 0 | K25: ='Budget Summary I'!AC27+'Budget Summary I'!AE27 -> 0 | L25: ='Budget Summary I'!AD27+'Budget Summary I'!AF27 -> 0 | M25: ='Budget Summary I'!AG27 -> 0 | N25: ='Budget Summary I'!AH27 -> 0 | O25: ='Budget Summary I'!AI27+'Budget Summary I'!AK27 -> 0 | P25: ='Budget Summary I'!AJ27+'Budget Summary I'!AL27 -> 0 | Q25: ='Budget Summary I'!AM27 -> 0 | R25: ='Budget Summary I'!AN27 -> 0
B26: National Free Drug Services | C26: =E26+G26+I26+K26+M26+O26+Q26 -> 0 | D26: =F26+H26+J26+L26+N26+P26+R26 -> 0 | E26: ='Budget Summary I'!E28+'Budget Summary I'!G28+'Budget Summary I'!I28+'Budget Summary I'!K28+'Budget Summary I'!M28+'Budget Summary I'!O28+'Budget Summary I'!Q28+'Budget Summary I'!S28 -> 0 | F26: ='Budget Summary I'!F28+'Budget Summary I'!H28+'Budget Summary I'!J28+'Budget Summary I'!L28+'Budget Summary I'!N28+'Budget Summary I'!P28+'Budget Summary I'!R28+'Budget Summary I'!T28 -> 0 | G26: ='Budget Summary I'!U28+'Budget Summary I'!W28 -> 0 | H26: ='Budget Summary I'!V28+'Budget Summary I'!X28 -> 0 | I26: ='Budget Summary I'!Y28+'Budget Summary I'!AA28 -> 0 | J26: ='Budget Summary I'!Z28+'Budget Summary I'!AB28 -> 0 | K26: ='Budget Summary I'!AC28+'Budget Summary I'!AE28 -> 0 | L26: ='Budget Summary I'!AD28+'Budget Summary I'!AF28 -> 0 | M26: ='Budget Summary I'!AG28 -> 0 | N26: ='Budget Summary I'!AH28 -> 0 | O26: ='Budget Summary I'!AI28+'Budget Summary I'!AK28 -> 0 | P26: ='Budget Summary I'!AJ28+'Budget Summary I'!AL28 -> 0 | Q26: ='Budget Summary I'!AM28 -> 0 | R26: ='Budget Summary I'!AN28 -> 0
B27: National Free Diagnostics Services | C27: =E27+G27+I27+K27+M27+O27+Q27 -> 135 | D27: =F27+H27+J27+L27+N27+P27+R27 -> 0 | E27: ='Budget Summary I'!E29+'Budget Summary I'!G29+'Budget Summary I'!I29+'Budget Summary I'!K29+'Budget Summary I'!M29+'Budget Summary I'!O29+'Budget Summary I'!Q29+'Budget Summary I'!S29 -> 0 | F27: ='Budget Summary I'!F29+'Budget Summary I'!H29+'Budget Summary I'!J29+'Budget Summary I'!L29+'Budget Summary I'!N29+'Budget Summary I'!P29+'Budget Summary I'!R29+'Budget Summary I'!T29 -> 0 | G27: ='Budget Summary I'!U29+'Budget Summary I'!W29 -> 0 | H27: ='Budget Summary I'!V29+'Budget Summary I'!X29 -> 0 | I27: ='Budget Summary I'!Y29+'Budget Summary I'!AA29 -> 135 | J27: ='Budget Summary I'!Z29+'Budget Summary I'!AB29 -> 0 | K27: ='Budget Summary I'!AC29+'Budget Summary I'!AE29 -> 0 | L27: ='Budget Summary I'!AD29+'Budget Summary I'!AF29 -> 0 | M27: ='Budget Summary I'!AG29 -> 0 | N27: ='Budget Summary I'!AH29 -> 0 | O27: ='Budget Summary I'!AI29+'Budget Summary I'!AK29 -> 0 | P27: ='Budget Summary I'!AJ29+'Budget Summary I'!AL29 -> 0 | Q27: ='Budget Summary I'!AM29 -> 0 | R27: ='Budget Summary I'!AN29 -> 0
B28: Human resources | C28: =E28+G28+I28+K28+M28+O28+Q28 -> 227.33 | D28: =F28+H28+J28+L28+N28+P28+R28 -> 0 | E28: ='Budget Summary I'!E30+'Budget Summary I'!G30+'Budget Summary I'!I30+'Budget Summary I'!K30+'Budget Summary I'!M30+'Budget Summary I'!O30+'Budget Summary I'!Q30+'Budget Summary I'!S30 -> 0 | F28: ='Budget Summary I'!F30+'Budget Summary I'!H30+'Budget Summary I'!J30+'Budget Summary I'!L30+'Budget Summary I'!N30+'Budget Summary I'!P30+'Budget Summary I'!R30+'Budget Summary I'!T30 -> 0 | G28: ='Budget Summary I'!U30+'Budget Summary I'!W30 -> 0 | H28: ='Budget Summary I'!V30+'Budget Summary I'!X30 -> 0 | I28: ='Budget Summary I'!Y30+'Budget Summary I'!AA30 -> 0 | J28: ='Budget Summary I'!Z30+'Budget Summary I'!AB30 -> 0 | K28: ='Budget Summary I'!AC30+'Budget Summary I'!AE30 -> 227.33 | L28: ='Budget Summary I'!AD30+'Budget Summary I'!AF30 -> 0 | M28: ='Budget Summary I'!AG30 -> 0 | N28: ='Budget Summary I'!AH30 -> 0 | O28: ='Budget Summary I'!AI30+'Budget Summary I'!AK30 -> 0 | P28: ='Budget Summary I'!AJ30+'Budget Summary I'!AL30 -> 0 | Q28: ='Budget Summary I'!AM30 -> 0 | R28: ='Budget Summary I'!AN30 -> 0
... B35: HSS Others | C35: =E35+G35+I35+K35+M35+O35+Q35 -> 128.08 | D35: =F35+H35+J35+L35+N35+P35+R35 -> 0 | E35: ='Budget Summary I'!E37+'Budget Summary I'!G37+'Budget Summary I'!I37+'Budget Summary I'!K37+'Budget Summary I'!M37+'Budget Summary I'!O37+'Budget Summary I'!Q37+'Budget Summary I'!S37 -> 0 | F35: ='Budget Summary I'!F37+'Budget Summary I'!H37+'Budget Summary I'!J37+'Budget Summary I'!L37+'Budget Summary I'!N37+'Budget Summary I'!P37+'Budget Summary I'!R37+'Budget Summary I'!T37 -> 0 | G35: ='Budget Summary I'!U37+'Budget Summary I'!W37 -> 0 | H35: ='Budget Summary I'!V37+'Budget Summary I'!X37 -> 0 | I35: ='Budget Summary I'!Y37+'Budget Summary I'!AA37 -> 128.08 | J35: ='Budget Summary I'!Z37+'Budget Summary I'!AB37 -> 0 | K35: ='Budget Summary I'!AC37+'Budget Summary I'!AE37 -> 0 | L35: ='Budget Summary I'!AD37+'Budget Summary I'!AF37 -> 0 | M35: ='Budget Summary I'!AG37 -> 0 | N35: ='Budget Summary I'!AH37 -> 0 | O35: ='Budget Summary I'!AI37+'Budget Summary I'!AK37 -> 0 | P35: ='Budget Summary I'!AJ37+'Budget Summary I'!AL37 -> 0 | Q35: ='Budget Summary I'!AM37 -> 0 | R35: ='Budget Summary I'!AN37 -> 0
A36: NDCP Flexi Pool | B36: Integrated Disease Surveillance Programme (IDSP) | C36: =E36+G36+I36+K36+M36+O36+Q36 -> 0 | D36: =F36+H36+J36+L36+N36+P36+R36 -> 0 | E36: ='Budget Summary I'!E38+'Budget Summary I'!G38+'Budget Summary I'!I38+'Budget Summary I'!K38+'Budget Summary I'!M38+'Budget Summary I'!O38+'Budget Summary I'!Q38+'Budget Summary I'!S38 -> 0 | F36: ='Budget Summary I'!F38+'Budget Summary I'!H38+'Budget Summary I'!J38+'Budget Summary I'!L38+'Budget Summary I'!N38+'Budget Summary I'!P38+'Budget Summary I'!R38+'Budget Summary I'!T38 -> 0 | G36: ='Budget Summary I'!U38+'Budget Summary I'!W38 -> 0 | H36: ='Budget Summary I'!V38+'Budget Summary I'!X38 -> 0 | I36: ='Budget Summary I'!Y38+'Budget Summary I'!AA38 -> 0 | J36: ='Budget Summary I'!Z38+'Budget Summary I'!AB38 -> 0 | K36: ='Budget Summary I'!AC38+'Budget Summary I'!AE38 -> 0 | L36: ='Budget Summary I'!AD38+'Budget Summary I'!AF38 -> 0 | M36: ='Budget Summary I'!AG38 -> 0 | N36: ='Budget Summary I'!AH38 -> 0 | O36: ='Budget Summary I'!AI38+'Budget Summary I'!AK38 -> 0 | P36: ='Budget Summary I'!AJ38+'Budget Summary I'!AL38 -> 0 | Q36: ='Budget Summary I'!AM38 -> 0 | R36: ='Budget Summary I'!AN38 -> 0
B37: National Vector Borne Disease Control Programme (NVBDCP) | C37: =E37+G37+I37+K37+M37+O37+Q37 -> 20 | D37: =F37+H37+J37+L37+N37+P37+R37 -> 0 | E37: ='Budget Summary I'!E39+'Budget Summary I'!G39+'Budget Summary I'!I39+'Budget Summary I'!K39+'Budget Summary I'!M39+'Budget Summary I'!O39+'Budget Summary I'!Q39+'Budget Summary I'!S39 -> 20 | F37: ='Budget Summary I'!F39+'Budget Summary I'!H39+'Budget Summary I'!J39+'Budget Summary I'!L39+'Budget Summary I'!N39+'Budget Summary I'!P39+'Budget Summary I'!R39+'Budget Summary I'!T39 -> 0 | G37: ='Budget Summary I'!U39+'Budget Summary I'!W39 -> 0 | H37: ='Budget Summary I'!V39+'Budget Summary I'!X39 -> 0 | I37: ='Budget Summary I'!Y39+'Budget Summary I'!AA39 -> 0 | J37: ='Budget Summary I'!Z39+'Budget Summary I'!AB39 -> 0 | K37: ='Budget Summary I'!AC39+'Budget Summary I'!AE39 -> 0 | L37: ='Budget Summary I'!AD39+'Budget Summary I'!AF39 -> 0 | M37: ='Budget Summary I'!AG39 -> 0 | N37: ='Budget Summary I'!AH39 -> 0 | O37: ='Budget Summary I'!AI39+'Budget Summary I'!AK39 -> 0 | P37: ='Budget Summary I'!AJ39+'Budget Summary I'!AL39 -> 0 | Q37: ='Budget Summary I'!AM39 -> 0 | R37: ='Budget Summary I'!AN39 -> 0
B38: National Leprosy Eradication Programme (NLEP) | C38: =E38+G38+I38+K38+M38+O38+Q38 -> 0 | D38: =F38+H38+J38+L38+N38+P38+R38 -> 0 | E38: ='Budget Summary I'!E40+'Budget Summary I'!G40+'Budget Summary I'!I40+'Budget Summary I'!K40+'Budget Summary I'!M40+'Budget Summary I'!O40+'Budget Summary I'!Q40+'Budget Summary I'!S40 -> 0 | F38: ='Budget Summary I'!F40+'Budget Summary I'!H40+'Budget Summary I'!J40+'Budget Summary I'!L40+'Budget Summary I'!N40+'Budget Summary I'!P40+'Budget Summary I'!R40+'Budget Summary I'!T40 -> 0 | G38: ='Budget Summary I'!U40+'Budget Summary I'!W40 -> 0 | H38: ='Budget Summary I'!V40+'Budget Summary I'!X40 -> 0 | I38: ='Budget Summary I'!Y40+'Budget Summary I'!AA40 -> 0 | J38: ='Budget Summary I'!Z40+'Budget Summary I'!AB40 -> 0 | K38: ='Budget Summary I'!AC40+'Budget Summary I'!AE40 -> 0 | L38: ='Budget Summary I'!AD40+'Budget Summary I'!AF40 -> 0 | M38: ='Budget Summary I'!AG40 -> 0 | N38: ='Budget Summary I'!AH40 -> 0 | O38: ='Budget Summary I'!AI40+'Budget Summary I'!AK40 -> 0 | P38: ='Budget Summary I'!AJ40+'Budget Summary I'!AL40 -> 0 | Q38: ='Budget Summary I'!AM40 -> 0 | R38: ='Budget Summary I'!AN40 -> 0
B39: National Tuberculosis Elimination Programme (NTEP) | C39: =E39+G39+I39+K39+M39+O39+Q39 -> 3301.2785 | D39: =F39+H39+J39+L39+N39+P39+R39 -> 0 | E39: ='Budget Summary I'!E41+'Budget Summary I'!G41+'Budget Summary I'!I41+'Budget Summary I'!K41+'Budget Summary I'!M41+'Budget Summary I'!O41+'Budget Summary I'!Q41+'Budget Summary I'!S41 -> 0 | F39: ='Budget Summary I'!F41+'Budget Summary I'!H41+'Budget Summary I'!J41+'Budget Summary I'!L41+'Budget Summary I'!N41+'Budget Summary I'!P41+'Budget Summary I'!R41+'Budget Summary I'!T41 -> 0 | G39: ='Budget Summary I'!U41+'Budget Summary I'!W41 -> 0 | H39: ='Budget Summary I'!V41+'Budget Summary I'!X41 -> 0 | I39: ='Budget Summary I'!Y41+'Budget Summary I'!AA41 -> 3301.2785 | J39: ='Budget Summary I'!Z41+'Budget Summary I'!AB41 -> 0 | K39: ='Budget Summary I'!AC41+'Budget Summary I'!AE41 -> 0 | L39: ='Budget Summary I'!AD41+'Budget Summary I'!AF41 -> 0 | M39: ='Budget Summary I'!AG41 -> 0 | N39: ='Budget Summary I'!AH41 -> 0 | O39: ='Budget Summary I'!AI41+'Budget Summary I'!AK41 -> 0 | P39: ='Budget Summary I'!AJ41+'Budget Summary I'!AL41 -> 0 | Q39: ='Budget Summary I'!AM41 -> 0 | R39: ='Budget Summary I'!AN41 -> 0
B40: National Viral Hepatitis Control Programme (NVHCP) | C40: =E40+G40+I40+K40+M40+O40+Q40 -> 0 | D40: =F40+H40+J40+L40+N40+P40+R40 -> 0 | E40: ='Budget Summary I'!E42+'Budget Summary I'!G42+'Budget Summary I'!I42+'Budget Summary I'!K42+'Budget Summary I'!M42+'Budget Summary I'!O42+'Budget Summary I'!Q42+'Budget Summary I'!S42 -> 0 | F40: ='Budget Summary I'!F42+'Budget Summary I'!H42+'Budget Summary I'!J42+'Budget Summary I'!L42+'Budget Summary I'!N42+'Budget Summary I'!P42+'Budget Summary I'!R42+'Budget Summary I'!T42 -> 0 | G40: ='Budget Summary I'!U42+'Budget Summary I'!W42 -> 0 | H40: ='Budget Summary I'!V42+'Budget Summary I'!X42 -> 0 | I40: ='Budget Summary I'!Y42+'Budget Summary I'!AA42 -> 0 | J40: ='Budget Summary I'!Z42+'Budget Summary I'!AB42 -> 0 | K40: ='Budget Summary I'!AC42+'Budget Summary I'!AE42 -> 0 | L40: ='Budget Summary I'!AD42+'Budget Summary I'!AF42 -> 0 | M40: ='Budget Summary I'!AG42 -> 0 | N40: ='Budget Summary I'!AH42 -> 0 | O40: ='Budget Summary I'!AI42+'Budget Summary I'!AK42 -> 0 | P40: ='Budget Summary I'!AJ42+'Budget Summary I'!AL42 -> 0 | Q40: ='Budget Summary I'!AM42 -> 0 | R40: ='Budget Summary I'!AN42 -> 0
